BEGIN:VCALENDAR
VERSION:2.0
PRODID:-//geocaching.sk//GCEVENTS//SK
CALSCALE:GREGORIAN
METHOD:PUBLISH
BEGIN:VEVENT
UID:GCBNQ41@geocaching.sk
DTSTAMP:20260425T134614Z
DTSTART:20260510T100000Z
DTEND:20260510T103000Z
SUMMARY:Kešky počkají\, zmrzlina ne🍦 [GCBNQ41]
DESCRIPTION:Kešky počkají\, zmrzlina ne🍦\\nOrganizátor: pkoca\, reditelka\, Terinka16\, MikyCZ\\nTyp: Event Cache\\nKraj: Trenčiansky kraj\\nSúradnice: N49.1027360° E18.4616150°\\n\\nhttps://coord.info/GCBNQ41
LOCATION:Trenčiansky kraj
GEO:49.1027360;18.4616150
URL:https://coord.info/GCBNQ41
STATUS:CONFIRMED
CATEGORIES:Geocaching,Event
END:VEVENT
END:VCALENDAR
