BEGIN:VCALENDAR
VERSION:2.0
PRODID:-//geocaching.sk//GCEVENTS//SK
CALSCALE:GREGORIAN
METHOD:PUBLISH
BEGIN:VEVENT
UID:GCBNKTH@geocaching.sk
DTSTAMP:20260425T134446Z
DTSTART:20260605T150000Z
DTEND:20260605T160000Z
SUMMARY:Keď pivo porazí poveru – event v Malibu [GCBNKTH]
DESCRIPTION:Keď pivo porazí poveru – event v Malibu\\nOrganizátor: happykiller\\nTyp: Event Cache\\nKraj: Nitriansky kraj\\nSúradnice: N48.3884000° E18.3831500°\\n\\nhttps://coord.info/GCBNKTH
LOCATION:Nitriansky kraj
GEO:48.3884000;18.3831500
URL:https://coord.info/GCBNKTH
STATUS:CONFIRMED
CATEGORIES:Geocaching,Event
END:VEVENT
END:VCALENDAR
