BEGIN:VCALENDAR
VERSION:2.0
PRODID:-//geocaching.sk//GCEVENTS//SK
CALSCALE:GREGORIAN
METHOD:PUBLISH
BEGIN:VEVENT
UID:GCBNHM1@geocaching.sk
DTSTAMP:20260425T134456Z
DTSTART:20260506T103000Z
DTEND:20260506T110000Z
SUMMARY:Geokávička v Komárne XLII. [GCBNHM1]
DESCRIPTION:Geokávička v Komárne XLII.\\nOrganizátor: -messor-\\nTyp: Event Cache\\nKraj: Nitriansky kraj\\nSúradnice: N47.7570170° E18.1292500°\\n\\nhttps://coord.info/GCBNHM1
LOCATION:Nitriansky kraj
GEO:47.7570170;18.1292500
URL:https://coord.info/GCBNHM1
STATUS:CONFIRMED
CATEGORIES:Geocaching,Event
END:VEVENT
END:VCALENDAR
