BEGIN:VCALENDAR
VERSION:2.0
PRODID:-//geocaching.sk//GCEVENTS//SK
CALSCALE:GREGORIAN
METHOD:PUBLISH
BEGIN:VEVENT
UID:GCBNHGF@geocaching.sk
DTSTAMP:20260425T134446Z
DTSTART:20260506T053000Z
DTEND:20260506T060000Z
SUMMARY:Georaňajky v Route Grill 50 [GCBNHGF]
DESCRIPTION:Georaňajky v Route Grill 50\\nOrganizátor: Milanotour\\nTyp: Event Cache\\nKraj: Trenčiansky kraj\\nSúradnice: N48.9659170° E18.1788330°\\n\\nhttps://coord.info/GCBNHGF
LOCATION:Trenčiansky kraj
GEO:48.9659170;18.1788330
URL:https://coord.info/GCBNHGF
STATUS:CONFIRMED
CATEGORIES:Geocaching,Event
END:VEVENT
END:VCALENDAR
