BEGIN:VCALENDAR
VERSION:2.0
PRODID:-//geocaching.sk//GCEVENTS//SK
CALSCALE:GREGORIAN
METHOD:PUBLISH
BEGIN:VEVENT
UID:GCBNGEK@geocaching.sk
DTSTAMP:20260425T134646Z
DTSTART:20260505T160000Z
DTEND:20260505T170000Z
SUMMARY:Dubnica Pubs Tour XXXIII. [GCBNGEK]
DESCRIPTION:Dubnica Pubs Tour XXXIII.\\nOrganizátor: Milanotour\\nTyp: Event Cache\\nKraj: Trenčiansky kraj\\nSúradnice: N48.9542330° E18.1710830°\\n\\nhttps://coord.info/GCBNGEK
LOCATION:Trenčiansky kraj
GEO:48.9542330;18.1710830
URL:https://coord.info/GCBNGEK
STATUS:CONFIRMED
CATEGORIES:Geocaching,Event
END:VEVENT
END:VCALENDAR
