BEGIN:VCALENDAR
VERSION:2.0
PRODID:-//geocaching.sk//GCEVENTS//SK
CALSCALE:GREGORIAN
METHOD:PUBLISH
BEGIN:VEVENT
UID:GCBNCF0@geocaching.sk
DTSTAMP:20260425T134456Z
DTSTART:20260509T080000Z
DTEND:20260509T083000Z
SUMMARY:Cvičná T5 #3 [GCBNCF0]
DESCRIPTION:Cvičná T5 #3\\nOrganizátor: ShofarBlaster\\nTyp: Event Cache\\nKraj: Košický kraj\\nSúradnice: N48.7476000° E21.2786670°\\n\\nhttps://coord.info/GCBNCF0
LOCATION:Košický kraj
GEO:48.7476000;21.2786670
URL:https://coord.info/GCBNCF0
STATUS:CONFIRMED
CATEGORIES:Geocaching,Event
END:VEVENT
END:VCALENDAR
