BEGIN:VCALENDAR
VERSION:2.0
PRODID:-//geocaching.sk//GCEVENTS//SK
CALSCALE:GREGORIAN
METHOD:PUBLISH
BEGIN:VEVENT
UID:GCBNC1W@geocaching.sk
DTSTAMP:20260425T153445Z
DTSTART:20260621T081500Z
DTEND:20260621T084500Z
SUMMARY:☀️ Letný slnovrat ☀️ [GCBNC1W]
DESCRIPTION:☀️ Letný slnovrat ☀️\\nOrganizátor: zemiak\\nTyp: Event Cache\\nKraj: Bratislavský kraj\\nSúradnice: N48.1355500° E17.1100830°\\n\\nhttps://coord.info/GCBNC1W
LOCATION:Bratislavský kraj
GEO:48.1355500;17.1100830
URL:https://coord.info/GCBNC1W
STATUS:CONFIRMED
CATEGORIES:Geocaching,Event
END:VEVENT
END:VCALENDAR
