BEGIN:VCALENDAR
VERSION:2.0
PRODID:-//geocaching.sk//GCEVENTS//SK
CALSCALE:GREGORIAN
METHOD:PUBLISH
BEGIN:VEVENT
UID:GCBNBN1@geocaching.sk
DTSTAMP:20260425T134743Z
DTSTART:20260501T070000Z
DTEND:20260501T073000Z
SUMMARY:Špania dolina - história [GCBNBN1]
DESCRIPTION:Špania dolina - história\\nOrganizátor: DUERO\\nTyp: Event Cache\\nKraj: Banskobystrický kraj\\nSúradnice: N48.8077500° E19.1336330°\\n\\nhttps://coord.info/GCBNBN1
LOCATION:Banskobystrický kraj
GEO:48.8077500;19.1336330
URL:https://coord.info/GCBNBN1
STATUS:CONFIRMED
CATEGORIES:Geocaching,Event
END:VEVENT
END:VCALENDAR
