BEGIN:VCALENDAR
VERSION:2.0
PRODID:-//geocaching.sk//GCEVENTS//SK
CALSCALE:GREGORIAN
METHOD:PUBLISH
BEGIN:VEVENT
UID:GCBNB95@geocaching.sk
DTSTAMP:20260425T134456Z
DTSTART:20260501T060000Z
DTEND:20260501T063000Z
SUMMARY:Stretnutie v Prešove na 1. mája [GCBNB95]
DESCRIPTION:Stretnutie v Prešove na 1. mája\\nOrganizátor: seiza\\nTyp: Event Cache\\nKraj: Prešovský kraj\\nSúradnice: N49.0015900° E21.2748770°\\n\\nhttps://coord.info/GCBNB95
LOCATION:Prešovský kraj
GEO:49.0015900;21.2748770
URL:https://coord.info/GCBNB95
STATUS:CONFIRMED
CATEGORIES:Geocaching,Event
END:VEVENT
END:VCALENDAR
