BEGIN:VCALENDAR
VERSION:2.0
PRODID:-//geocaching.sk//GCEVENTS//SK
CALSCALE:GREGORIAN
METHOD:PUBLISH
BEGIN:VEVENT
UID:GCBN9DP@geocaching.sk
DTSTAMP:20260425T134429Z
DTSTART:20260514T144500Z
DTEND:20260514T151500Z
SUMMARY:Kačací tanec [GCBN9DP]
DESCRIPTION:Kačací tanec\\nOrganizátor: miruskanik\\nTyp: Event Cache\\nKraj: Bratislavský kraj\\nSúradnice: N48.0586170° E17.1532330°\\n\\nhttps://coord.info/GCBN9DP
LOCATION:Bratislavský kraj
GEO:48.0586170;17.1532330
URL:https://coord.info/GCBN9DP
STATUS:CONFIRMED
CATEGORIES:Geocaching,Event
END:VEVENT
END:VCALENDAR
