BEGIN:VCALENDAR
VERSION:2.0
PRODID:-//geocaching.sk//GCEVENTS//SK
CALSCALE:GREGORIAN
METHOD:PUBLISH
BEGIN:VEVENT
UID:GCBN8EA@geocaching.sk
DTSTAMP:20260425T134845Z
DTSTART:20260502T133000Z
DTEND:20260502T140000Z
SUMMARY:Meet & Greet in Bratislava [GCBN8EA]
DESCRIPTION:Meet & Greet in Bratislava\\nOrganizátor: Flux\\nTyp: Event Cache\\nKraj: Bratislavský kraj\\nSúradnice: N48.1435000° E17.1082500°\\n\\nhttps://coord.info/GCBN8EA
LOCATION:Bratislavský kraj
GEO:48.1435000;17.1082500
URL:https://coord.info/GCBN8EA
STATUS:CONFIRMED
CATEGORIES:Geocaching,Event
END:VEVENT
END:VCALENDAR
