BEGIN:VCALENDAR
VERSION:2.0
PRODID:-//geocaching.sk//GCEVENTS//SK
CALSCALE:GREGORIAN
METHOD:PUBLISH
BEGIN:VEVENT
UID:GCBN7PP@geocaching.sk
DTSTAMP:20260425T134645Z
DTSTART:20260428T160000Z
DTEND:20260428T163000Z
SUMMARY:Přistupte blíže\, tady se to líže I. [GCBN7PP]
DESCRIPTION:Přistupte blíže\, tady se to líže I.\\nOrganizátor: sokol1\\nTyp: Event Cache\\nKraj: Trenčiansky kraj\\nSúradnice: N48.9609980° E18.1725450°\\n\\nhttps://coord.info/GCBN7PP
LOCATION:Trenčiansky kraj
GEO:48.9609980;18.1725450
URL:https://coord.info/GCBN7PP
STATUS:CONFIRMED
CATEGORIES:Geocaching,Event
END:VEVENT
END:VCALENDAR
