BEGIN:VCALENDAR
VERSION:2.0
PRODID:-//geocaching.sk//GCEVENTS//SK
CALSCALE:GREGORIAN
METHOD:PUBLISH
BEGIN:VEVENT
UID:GCBN6XY@geocaching.sk
DTSTAMP:20260425T134706Z
DTSTART:20260429T153000Z
DTEND:20260429T164500Z
SUMMARY:Barbora [GCBN6XY]
DESCRIPTION:Barbora\\nOrganizátor: Simon Cooper & OZ Permoníci\\nTyp: Cache In Trash Out Event\\nKraj: Bratislavský kraj\\nSúradnice: N48.1833170° E16.9790830°\\n\\nhttps://coord.info/GCBN6XY
LOCATION:Bratislavský kraj
GEO:48.1833170;16.9790830
URL:https://coord.info/GCBN6XY
STATUS:CONFIRMED
CATEGORIES:Geocaching,Cito
END:VEVENT
END:VCALENDAR
