BEGIN:VCALENDAR
VERSION:2.0
PRODID:-//geocaching.sk//GCEVENTS//SK
CALSCALE:GREGORIAN
METHOD:PUBLISH
BEGIN:VEVENT
UID:GCBN61K@geocaching.sk
DTSTAMP:20260425T134742Z
DTSTART:20260601T180000Z
DTEND:20260601T183000Z
SUMMARY:🇸🇰 🏞 Meet & Greet 🇩🇪 [GCBN61K]
DESCRIPTION:🇸🇰 🏞 Meet & Greet 🇩🇪\\nOrganizátor: der-Pate-von-SB\\nTyp: Event Cache\\nKraj: Bratislavský kraj\\nSúradnice: N48.1363330° E17.1138830°\\n\\nhttps://coord.info/GCBN61K
LOCATION:Bratislavský kraj
GEO:48.1363330;17.1138830
URL:https://coord.info/GCBN61K
STATUS:CONFIRMED
CATEGORIES:Geocaching,Event
END:VEVENT
END:VCALENDAR
