BEGIN:VCALENDAR
VERSION:2.0
PRODID:-//geocaching.sk//GCEVENTS//SK
CALSCALE:GREGORIAN
METHOD:PUBLISH
BEGIN:VEVENT
UID:GCBN61H@geocaching.sk
DTSTAMP:20260425T134736Z
DTSTART:20260519T153000Z
DTEND:20260519T163000Z
SUMMARY:Moravsko-Slovenský pokec IX. [GCBN61H]
DESCRIPTION:Moravsko-Slovenský pokec IX.\\nOrganizátor: petránek\\nTyp: Event Cache\\nKraj: Trenčiansky kraj\\nSúradnice: N49.0282660° E18.0574220°\\n\\nhttps://coord.info/GCBN61H
LOCATION:Trenčiansky kraj
GEO:49.0282660;18.0574220
URL:https://coord.info/GCBN61H
STATUS:CONFIRMED
CATEGORIES:Geocaching,Event
END:VEVENT
END:VCALENDAR
