BEGIN:VCALENDAR
VERSION:2.0
PRODID:-//geocaching.sk//GCEVENTS//SK
CALSCALE:GREGORIAN
METHOD:PUBLISH
BEGIN:VEVENT
UID:GCBN551@geocaching.sk
DTSTAMP:20260425T134803Z
DTSTART:20260426T093000Z
DTEND:20260426T100000Z
SUMMARY:Výhľad Sedlo Vabec - Puknutá skala [GCBN551]
DESCRIPTION:Výhľad Sedlo Vabec - Puknutá skala\\nOrganizátor: PataMato\\nTyp: Event Cache\\nKraj: Prešovský kraj\\nSúradnice: N49.3442000° E20.6718330°\\n\\nhttps://coord.info/GCBN551
LOCATION:Prešovský kraj
GEO:49.3442000;20.6718330
URL:https://coord.info/GCBN551
STATUS:CONFIRMED
CATEGORIES:Geocaching,Event
END:VEVENT
END:VCALENDAR
