BEGIN:VCALENDAR
VERSION:2.0
PRODID:-//geocaching.sk//GCEVENTS//SK
CALSCALE:GREGORIAN
METHOD:PUBLISH
BEGIN:VEVENT
UID:GCBN54D@geocaching.sk
DTSTAMP:20260425T134550Z
DTSTART:20260509T073000Z
DTEND:20260509T093000Z
SUMMARY:CITO Castle Ruins 2026 Turna [GCBN54D]
DESCRIPTION:CITO Castle Ruins 2026 Turna\\nOrganizátor: Krianna\\nTyp: Cache In Trash Out Event\\nKraj: Košický kraj\\nSúradnice: N48.6109170° E20.8747830°\\n\\nhttps://coord.info/GCBN54D
LOCATION:Košický kraj
GEO:48.6109170;20.8747830
URL:https://coord.info/GCBN54D
STATUS:CONFIRMED
CATEGORIES:Geocaching,Cito
END:VEVENT
END:VCALENDAR
