BEGIN:VCALENDAR
VERSION:2.0
PRODID:-//geocaching.sk//GCEVENTS//SK
CALSCALE:GREGORIAN
METHOD:PUBLISH
BEGIN:VEVENT
UID:GCBN51D@geocaching.sk
DTSTAMP:20260425T134706Z
DTSTART:20260502T153000Z
DTEND:20260502T160000Z
SUMMARY:Meet & Greet with Viennese Cachers in Trenčín [GCBN51D]
DESCRIPTION:Meet & Greet with Viennese Cachers in Trenčín\\nOrganizátor: wtap\, casoli and viennacache \\nTyp: Event Cache\\nKraj: Trenčiansky kraj\\nSúradnice: N48.9074670° E18.1780830°\\n\\nhttps://coord.info/GCBN51D
LOCATION:Trenčiansky kraj
GEO:48.9074670;18.1780830
URL:https://coord.info/GCBN51D
STATUS:CONFIRMED
CATEGORIES:Geocaching,Event
END:VEVENT
END:VCALENDAR
