BEGIN:VCALENDAR
VERSION:2.0
PRODID:-//geocaching.sk//GCEVENTS//SK
CALSCALE:GREGORIAN
METHOD:PUBLISH
BEGIN:VEVENT
UID:GCBN4TZ@geocaching.sk
DTSTAMP:20260425T121825Z
DTSTART:20260426T073000Z
DTEND:20260426T080000Z
SUMMARY:Ranná geokáva [GCBN4TZ]
DESCRIPTION:Ranná geokáva\\nOrganizátor: sokol1\\nTyp: Event Cache\\nKraj: Trenčiansky kraj\\nSúradnice: N48.9581820° E18.1730160°\\n\\nhttps://coord.info/GCBN4TZ
LOCATION:Trenčiansky kraj
GEO:48.9581820;18.1730160
URL:https://coord.info/GCBN4TZ
STATUS:CONFIRMED
CATEGORIES:Geocaching,Event
END:VEVENT
END:VCALENDAR
