BEGIN:VCALENDAR
VERSION:2.0
PRODID:-//geocaching.sk//GCEVENTS//SK
CALSCALE:GREGORIAN
METHOD:PUBLISH
BEGIN:VEVENT
UID:GCBN3Z4@geocaching.sk
DTSTAMP:20260425T134613Z
DTSTART:20260505T160000Z
DTEND:20260505T163000Z
SUMMARY:🇩🇪 Meet & Greet - Bratislava 🇸🇰 [GCBN3Z4]
DESCRIPTION:🇩🇪 Meet & Greet - Bratislava 🇸🇰\\nOrganizátor: ichel\\nTyp: Event Cache\\nKraj: Bratislavský kraj\\nSúradnice: N48.1437390° E17.1086040°\\n\\nhttps://coord.info/GCBN3Z4
LOCATION:Bratislavský kraj
GEO:48.1437390;17.1086040
URL:https://coord.info/GCBN3Z4
STATUS:CONFIRMED
CATEGORIES:Geocaching,Event
END:VEVENT
END:VCALENDAR
