BEGIN:VCALENDAR
VERSION:2.0
PRODID:-//geocaching.sk//GCEVENTS//SK
CALSCALE:GREGORIAN
METHOD:PUBLISH
BEGIN:VEVENT
UID:GCBN1CJ@geocaching.sk
DTSTAMP:20260425T134646Z
DTSTART:20260605T231500Z
DTEND:20260606T001500Z
SUMMARY:Priloz do ohnika [GCBN1CJ]
DESCRIPTION:Priloz do ohnika\\nOrganizátor: JaSaHram\\nTyp: Event Cache\\nKraj: Nitriansky kraj\\nSúradnice: N47.7563500° E17.9464330°\\n\\nhttps://coord.info/GCBN1CJ
LOCATION:Nitriansky kraj
GEO:47.7563500;17.9464330
URL:https://coord.info/GCBN1CJ
STATUS:CONFIRMED
CATEGORIES:Geocaching,Event
END:VEVENT
END:VCALENDAR
