BEGIN:VCALENDAR
VERSION:2.0
PRODID:-//geocaching.sk//GCEVENTS//SK
CALSCALE:GREGORIAN
METHOD:PUBLISH
BEGIN:VEVENT
UID:GCBN0FB@geocaching.sk
DTSTAMP:20260425T134543Z
DTSTART:20260514T151500Z
DTEND:20260514T161500Z
SUMMARY:Hrabkacie [GCBN0FB]
DESCRIPTION:Hrabkacie\\nOrganizátor: Simon Cooper & OZ Permoníci\\nTyp: Cache In Trash Out Event\\nKraj: Bratislavský kraj\\nSúradnice: N48.0585830° E17.1530560°\\n\\nhttps://coord.info/GCBN0FB
LOCATION:Bratislavský kraj
GEO:48.0585830;17.1530560
URL:https://coord.info/GCBN0FB
STATUS:CONFIRMED
CATEGORIES:Geocaching,Cito
END:VEVENT
END:VCALENDAR
