BEGIN:VCALENDAR
VERSION:2.0
PRODID:-//geocaching.sk//GCEVENTS//SK
CALSCALE:GREGORIAN
METHOD:PUBLISH
BEGIN:VEVENT
UID:GCBMZXH@geocaching.sk
DTSTAMP:20260425T134544Z
DTSTART:20260510T150000Z
DTEND:20260510T160000Z
SUMMARY:Langošový event [GCBMZXH]
DESCRIPTION:Langošový event\\nOrganizátor: dragonka\\nTyp: Event Cache\\nKraj: Trenčiansky kraj\\nSúradnice: N48.9086630° E18.1725620°\\n\\nhttps://coord.info/GCBMZXH
LOCATION:Trenčiansky kraj
GEO:48.9086630;18.1725620
URL:https://coord.info/GCBMZXH
STATUS:CONFIRMED
CATEGORIES:Geocaching,Event
END:VEVENT
END:VCALENDAR
