BEGIN:VCALENDAR
VERSION:2.0
PRODID:-//geocaching.sk//GCEVENTS//SK
CALSCALE:GREGORIAN
METHOD:PUBLISH
BEGIN:VEVENT
UID:GCBMZ0R@geocaching.sk
DTSTAMP:20260425T134707Z
DTSTART:20260508T150000Z
DTEND:20260508T153000Z
SUMMARY:Svetový deň chôdze - 8. máj [GCBMZ0R]
DESCRIPTION:Svetový deň chôdze - 8. máj\\nOrganizátor: RFFteam\\nTyp: Event Cache\\nKraj: Bratislavský kraj\\nSúradnice: N48.1860290° E17.0381640°\\n\\nhttps://coord.info/GCBMZ0R
LOCATION:Bratislavský kraj
GEO:48.1860290;17.0381640
URL:https://coord.info/GCBMZ0R
STATUS:CONFIRMED
CATEGORIES:Geocaching,Event
END:VEVENT
END:VCALENDAR
