BEGIN:VCALENDAR
VERSION:2.0
PRODID:-//geocaching.sk//GCEVENTS//SK
CALSCALE:GREGORIAN
METHOD:PUBLISH
BEGIN:VEVENT
UID:GCBMZ0N@geocaching.sk
DTSTAMP:20260425T134803Z
DTSTART:20260506T061500Z
DTEND:20260506T064500Z
SUMMARY:Stamp Day [GCBMZ0N]
DESCRIPTION:Stamp Day\\nOrganizátor: drobec\\nTyp: Event Cache\\nKraj: Bratislavský kraj\\nSúradnice: N48.1471750° E17.1091200°\\n\\nhttps://coord.info/GCBMZ0N
LOCATION:Bratislavský kraj
GEO:48.1471750;17.1091200
URL:https://coord.info/GCBMZ0N
STATUS:CONFIRMED
CATEGORIES:Geocaching,Event
END:VEVENT
END:VCALENDAR
