BEGIN:VCALENDAR
VERSION:2.0
PRODID:-//geocaching.sk//GCEVENTS//SK
CALSCALE:GREGORIAN
METHOD:PUBLISH
BEGIN:VEVENT
UID:GCBMV6B@geocaching.sk
DTSTAMP:20260425T153635Z
DTSTART:20260607T064500Z
DTEND:20260607T071500Z
SUMMARY:Vstávať a cvičiť! [GCBMV6B]
DESCRIPTION:Vstávať a cvičiť!\\nOrganizátor: Labuťka81\\nTyp: Event Cache\\nKraj: Nitriansky kraj\\nSúradnice: N47.7563210° E17.9462840°\\n\\nhttps://coord.info/GCBMV6B
LOCATION:Nitriansky kraj
GEO:47.7563210;17.9462840
URL:https://coord.info/GCBMV6B
STATUS:CONFIRMED
CATEGORIES:Geocaching,Event
END:VEVENT
END:VCALENDAR
