BEGIN:VCALENDAR
VERSION:2.0
PRODID:-//geocaching.sk//GCEVENTS//SK
CALSCALE:GREGORIAN
METHOD:PUBLISH
BEGIN:VEVENT
UID:GCBMRX9@geocaching.sk
DTSTAMP:20260425T134736Z
DTSTART:20260503T153000Z
DTEND:20260503T160000Z
SUMMARY:Čas na nedeľnú prechádzku [GCBMRX9]
DESCRIPTION:Čas na nedeľnú prechádzku\\nOrganizátor: Muslofon\\nTyp: Event Cache\\nKraj: Bratislavský kraj\\nSúradnice: N48.1595830° E17.0884830°\\n\\nhttps://coord.info/GCBMRX9
LOCATION:Bratislavský kraj
GEO:48.1595830;17.0884830
URL:https://coord.info/GCBMRX9
STATUS:CONFIRMED
CATEGORIES:Geocaching,Event
END:VEVENT
END:VCALENDAR
