BEGIN:VCALENDAR
VERSION:2.0
PRODID:-//geocaching.sk//GCEVENTS//SK
CALSCALE:GREGORIAN
METHOD:PUBLISH
BEGIN:VEVENT
UID:GCBMNV8@geocaching.sk
DTSTAMP:20260425T134845Z
DTSTART:20260427T160000Z
DTEND:20260427T171500Z
SUMMARY:Maker Magic - GeoPizza4-tvoriteľ kúziel [GCBMNV8]
DESCRIPTION:Maker Magic - GeoPizza4-tvoriteľ kúziel\\nOrganizátor: SimonOgan\\nTyp: Event Cache\\nKraj: Banskobystrický kraj\\nSúradnice: N48.7556360° E19.1658530°\\n\\nhttps://coord.info/GCBMNV8
LOCATION:Banskobystrický kraj
GEO:48.7556360;19.1658530
URL:https://coord.info/GCBMNV8
STATUS:CONFIRMED
CATEGORIES:Geocaching,Event
END:VEVENT
END:VCALENDAR
