BEGIN:VCALENDAR
VERSION:2.0
PRODID:-//geocaching.sk//GCEVENTS//SK
CALSCALE:GREGORIAN
METHOD:PUBLISH
BEGIN:VEVENT
UID:GCBMJT7@geocaching.sk
DTSTAMP:20260425T121723Z
DTSTART:20260425T130000Z
DTEND:20260425T160000Z
SUMMARY:Otvorenie sezóny na B-S 6 Vrba [GCBMJT7]
DESCRIPTION:Otvorenie sezóny na B-S 6 Vrba\\nOrganizátor: konyk3\\nTyp: Event Cache\\nKraj: Bratislavský kraj\\nSúradnice: N48.1167170° E17.0812330°\\n\\nhttps://coord.info/GCBMJT7
LOCATION:Bratislavský kraj
GEO:48.1167170;17.0812330
URL:https://coord.info/GCBMJT7
STATUS:CONFIRMED
CATEGORIES:Geocaching,Event
END:VEVENT
END:VCALENDAR
