BEGIN:VCALENDAR
VERSION:2.0
PRODID:-//geocaching.sk//GCEVENTS//SK
CALSCALE:GREGORIAN
METHOD:PUBLISH
BEGIN:VEVENT
UID:GCBMHWW@geocaching.sk
DTSTAMP:20260425T134743Z
DTSTART:20260429T150000Z
DTEND:20260429T153000Z
SUMMARY:Dutchman on tour / Holanďan na turné [GCBMHWW]
DESCRIPTION:Dutchman on tour / Holanďan na turné\\nOrganizátor: JAFEJF\\nTyp: Event Cache\\nKraj: Banskobystrický kraj\\nSúradnice: N48.2767170° E19.2349670°\\n\\nhttps://coord.info/GCBMHWW
LOCATION:Banskobystrický kraj
GEO:48.2767170;19.2349670
URL:https://coord.info/GCBMHWW
STATUS:CONFIRMED
CATEGORIES:Geocaching,Event
END:VEVENT
END:VCALENDAR
