BEGIN:VCALENDAR
VERSION:2.0
PRODID:-//geocaching.sk//GCEVENTS//SK
CALSCALE:GREGORIAN
METHOD:PUBLISH
BEGIN:VEVENT
UID:GCBMGPD@geocaching.sk
DTSTAMP:20260425T134430Z
DTSTART:20260426T143000Z
DTEND:20260426T153000Z
SUMMARY:Stroskotanie na pustom ostrove IV [GCBMGPD]
DESCRIPTION:Stroskotanie na pustom ostrove IV\\nOrganizátor: TeamChipChirko\\nTyp: Event Cache\\nKraj: Bratislavský kraj\\nSúradnice: N48.2175000° E17.4153500°\\n\\nhttps://coord.info/GCBMGPD
LOCATION:Bratislavský kraj
GEO:48.2175000;17.4153500
URL:https://coord.info/GCBMGPD
STATUS:CONFIRMED
CATEGORIES:Geocaching,Event
END:VEVENT
END:VCALENDAR
