BEGIN:VCALENDAR
VERSION:2.0
PRODID:-//geocaching.sk//GCEVENTS//SK
CALSCALE:GREGORIAN
METHOD:PUBLISH
BEGIN:VEVENT
UID:GCBMF42@geocaching.sk
DTSTAMP:20260425T134549Z
DTSTART:20260528T160000Z
DTEND:20260528T163000Z
SUMMARY:Meet and greet on a early Thursday evening [GCBMF42]
DESCRIPTION:Meet and greet on a early Thursday evening\\nOrganizátor: pperen\\nTyp: Event Cache\\nKraj: Bratislavský kraj\\nSúradnice: N48.1420000° E17.1093330°\\n\\nhttps://coord.info/GCBMF42
LOCATION:Bratislavský kraj
GEO:48.1420000;17.1093330
URL:https://coord.info/GCBMF42
STATUS:CONFIRMED
CATEGORIES:Geocaching,Event
END:VEVENT
END:VCALENDAR
