BEGIN:VCALENDAR
VERSION:2.0
PRODID:-//geocaching.sk//GCEVENTS//SK
CALSCALE:GREGORIAN
METHOD:PUBLISH
BEGIN:VEVENT
UID:GCBMERQ@geocaching.sk
DTSTAMP:20260425T134803Z
DTSTART:20260525T060000Z
DTEND:20260525T063000Z
SUMMARY:Stratený sútokom [GCBMERQ]
DESCRIPTION:Stratený sútokom\\nOrganizátor: RubyShoos\\nTyp: Event Cache\\nKraj: Trenčiansky kraj\\nSúradnice: N48.9563000° E18.1124500°\\n\\nhttps://coord.info/GCBMERQ
LOCATION:Trenčiansky kraj
GEO:48.9563000;18.1124500
URL:https://coord.info/GCBMERQ
STATUS:CONFIRMED
CATEGORIES:Geocaching,Event
END:VEVENT
END:VCALENDAR
