BEGIN:VCALENDAR
VERSION:2.0
PRODID:-//geocaching.sk//GCEVENTS//SK
CALSCALE:GREGORIAN
METHOD:PUBLISH
BEGIN:VEVENT
UID:GCBMD6V@geocaching.sk
DTSTAMP:20260425T121825Z
DTSTART:20260426T063000Z
DTEND:20260426T070000Z
SUMMARY:Starý lom - vyhliadka [GCBMD6V]
DESCRIPTION:Starý lom - vyhliadka\\nOrganizátor: Johny\;)\\nTyp: Event Cache\\nKraj: Prešovský kraj\\nSúradnice: N49.1492670° E21.1174670°\\n\\nhttps://coord.info/GCBMD6V
LOCATION:Prešovský kraj
GEO:49.1492670;21.1174670
URL:https://coord.info/GCBMD6V
STATUS:CONFIRMED
CATEGORIES:Geocaching,Event
END:VEVENT
END:VCALENDAR
