BEGIN:VCALENDAR
VERSION:2.0
PRODID:-//geocaching.sk//GCEVENTS//SK
CALSCALE:GREGORIAN
METHOD:PUBLISH
BEGIN:VEVENT
UID:GCBMCCM@geocaching.sk
DTSTAMP:20260425T134457Z
DTSTART:20260428T123000Z
DTEND:20260428T130000Z
SUMMARY:Meet & Greet - Bratislava [GCBMCCM]
DESCRIPTION:Meet & Greet - Bratislava\\nOrganizátor: alamo.team\\nTyp: Event Cache\\nKraj: Bratislavský kraj\\nSúradnice: N48.1397500° E17.1137500°\\n\\nhttps://coord.info/GCBMCCM
LOCATION:Bratislavský kraj
GEO:48.1397500;17.1137500
URL:https://coord.info/GCBMCCM
STATUS:CONFIRMED
CATEGORIES:Geocaching,Event
END:VEVENT
END:VCALENDAR
