BEGIN:VCALENDAR
VERSION:2.0
PRODID:-//geocaching.sk//GCEVENTS//SK
CALSCALE:GREGORIAN
METHOD:PUBLISH
BEGIN:VEVENT
UID:GCBM5PZ@geocaching.sk
DTSTAMP:20260425T134549Z
DTSTART:20260509T071500Z
DTEND:20260509T090000Z
SUMMARY:Cvičná T5 #12 [GCBM5PZ]
DESCRIPTION:Cvičná T5 #12\\nOrganizátor: momom.\\nTyp: Event Cache\\nKraj: Nitriansky kraj\\nSúradnice: N48.2203000° E18.6094500°\\n\\nhttps://coord.info/GCBM5PZ
LOCATION:Nitriansky kraj
GEO:48.2203000;18.6094500
URL:https://coord.info/GCBM5PZ
STATUS:CONFIRMED
CATEGORIES:Geocaching,Event
END:VEVENT
END:VCALENDAR
