BEGIN:VCALENDAR
VERSION:2.0
PRODID:-//geocaching.sk//GCEVENTS//SK
CALSCALE:GREGORIAN
METHOD:PUBLISH
BEGIN:VEVENT
UID:GCBM5MB@geocaching.sk
DTSTAMP:20260425T134332Z
DTSTART:20260429T083000Z
DTEND:20260429T090000Z
SUMMARY:Rendezvous s Goliášom [GCBM5MB]
DESCRIPTION:Rendezvous s Goliášom\\nOrganizátor: geoPetros\\nTyp: Event Cache\\nKraj: Košický kraj\\nSúradnice: N48.6626050° E20.5328430°\\n\\nhttps://coord.info/GCBM5MB
LOCATION:Košický kraj
GEO:48.6626050;20.5328430
URL:https://coord.info/GCBM5MB
STATUS:CONFIRMED
CATEGORIES:Geocaching,Event
END:VEVENT
END:VCALENDAR
