BEGIN:VCALENDAR
VERSION:2.0
PRODID:-//geocaching.sk//GCEVENTS//SK
CALSCALE:GREGORIAN
METHOD:PUBLISH
BEGIN:VEVENT
UID:GCBM44M@geocaching.sk
DTSTAMP:20260425T134549Z
DTSTART:20260503T083000Z
DTEND:20260503T094500Z
SUMMARY:ŽenskoMužská štafeta [GCBM44M]
DESCRIPTION:ŽenskoMužská štafeta\\nOrganizátor: Sebi_17\\nTyp: Event Cache\\nKraj: Trenčiansky kraj\\nSúradnice: N48.8703360° E18.0453890°\\n\\nhttps://coord.info/GCBM44M
LOCATION:Trenčiansky kraj
GEO:48.8703360;18.0453890
URL:https://coord.info/GCBM44M
STATUS:CONFIRMED
CATEGORIES:Geocaching,Event
END:VEVENT
END:VCALENDAR
