BEGIN:VCALENDAR
VERSION:2.0
PRODID:-//geocaching.sk//GCEVENTS//SK
CALSCALE:GREGORIAN
METHOD:PUBLISH
BEGIN:VEVENT
UID:GCBM1K8@geocaching.sk
DTSTAMP:20260425T153445Z
DTSTART:20260621T160000Z
DTEND:20260621T163000Z
SUMMARY:Stretnutie keserov pri dunaji [GCBM1K8]
DESCRIPTION:Stretnutie keserov pri dunaji\\nOrganizátor: Aron63710\\nTyp: Event Cache\\nKraj: Bratislavský kraj\\nSúradnice: N48.1368880° E17.1028760°\\n\\nhttps://coord.info/GCBM1K8
LOCATION:Bratislavský kraj
GEO:48.1368880;17.1028760
URL:https://coord.info/GCBM1K8
STATUS:CONFIRMED
CATEGORIES:Geocaching,Event
END:VEVENT
END:VCALENDAR
