BEGIN:VCALENDAR
VERSION:2.0
PRODID:-//geocaching.sk//GCEVENTS//SK
CALSCALE:GREGORIAN
METHOD:PUBLISH
BEGIN:VEVENT
UID:GCBKZCE@geocaching.sk
DTSTAMP:20260425T134447Z
DTSTART:20260428T143000Z
DTEND:20260428T150000Z
SUMMARY:Morské oko [GCBKZCE]
DESCRIPTION:Morské oko\\nOrganizátor: bolda\\nTyp: Event Cache\\nKraj: Košický kraj\\nSúradnice: N48.9118330° E22.1992500°\\n\\nhttps://coord.info/GCBKZCE
LOCATION:Košický kraj
GEO:48.9118330;22.1992500
URL:https://coord.info/GCBKZCE
STATUS:CONFIRMED
CATEGORIES:Geocaching,Event
END:VEVENT
END:VCALENDAR
