BEGIN:VCALENDAR
VERSION:2.0
PRODID:-//geocaching.sk//GCEVENTS//SK
CALSCALE:GREGORIAN
METHOD:PUBLISH
BEGIN:VEVENT
UID:GCBKTAG@geocaching.sk
DTSTAMP:20260425T134543Z
DTSTART:20260509T160000Z
DTEND:20260509T163000Z
SUMMARY:Imperial Doom [GCBKTAG]
DESCRIPTION:Imperial Doom\\nOrganizátor: lj.\\nTyp: Event Cache\\nKraj: Košický kraj\\nSúradnice: N48.7240000° E21.2513500°\\n\\nhttps://coord.info/GCBKTAG
LOCATION:Košický kraj
GEO:48.7240000;21.2513500
URL:https://coord.info/GCBKTAG
STATUS:CONFIRMED
CATEGORIES:Geocaching,Event
END:VEVENT
END:VCALENDAR
