BEGIN:VCALENDAR
VERSION:2.0
PRODID:-//geocaching.sk//GCEVENTS//SK
CALSCALE:GREGORIAN
METHOD:PUBLISH
BEGIN:VEVENT
UID:GCBKT3Z@geocaching.sk
DTSTAMP:20260425T134446Z
DTSTART:20260503T150000Z
DTEND:20260503T160000Z
SUMMARY:zskoseca for vedúcko (9000) [GCBKT3Z]
DESCRIPTION:zskoseca for vedúcko (9000)\\nOrganizátor: zskoseca\\nTyp: Event Cache\\nKraj: Trenčiansky kraj\\nSúradnice: N49.0095370° E18.2614940°\\n\\nhttps://coord.info/GCBKT3Z
LOCATION:Trenčiansky kraj
GEO:49.0095370;18.2614940
URL:https://coord.info/GCBKT3Z
STATUS:CONFIRMED
CATEGORIES:Geocaching,Event
END:VEVENT
END:VCALENDAR
