BEGIN:VCALENDAR
VERSION:2.0
PRODID:-//geocaching.sk//GCEVENTS//SK
CALSCALE:GREGORIAN
METHOD:PUBLISH
BEGIN:VEVENT
UID:GCBKP3C@geocaching.sk
DTSTAMP:20260425T134354Z
DTSTART:20260605T170000Z
DTEND:20260605T173000Z
SUMMARY:GeoOpekačka deň pred dňom D3 [GCBKP3C]
DESCRIPTION:GeoOpekačka deň pred dňom D3\\nOrganizátor: mimino84\\nTyp: Event Cache\\nKraj: Nitriansky kraj\\nSúradnice: N47.7561690° E17.9463890°\\n\\nhttps://coord.info/GCBKP3C
LOCATION:Nitriansky kraj
GEO:47.7561690;17.9463890
URL:https://coord.info/GCBKP3C
STATUS:CONFIRMED
CATEGORIES:Geocaching,Event
END:VEVENT
END:VCALENDAR
