BEGIN:VCALENDAR
VERSION:2.0
PRODID:-//geocaching.sk//GCEVENTS//SK
CALSCALE:GREGORIAN
METHOD:PUBLISH
BEGIN:VEVENT
UID:GCBKN8Q@geocaching.sk
DTSTAMP:20260425T134742Z
DTSTART:20260601T150000Z
DTEND:20260601T160000Z
SUMMARY:Záverečný (nielen) žiacky event (MDD) [GCBKN8Q]
DESCRIPTION:Záverečný (nielen) žiacky event (MDD)\\nOrganizátor: zskoseca\\nTyp: Event Cache\\nKraj: Trenčiansky kraj\\nSúradnice: N49.0072100° E18.2591400°\\n\\nhttps://coord.info/GCBKN8Q
LOCATION:Trenčiansky kraj
GEO:49.0072100;18.2591400
URL:https://coord.info/GCBKN8Q
STATUS:CONFIRMED
CATEGORIES:Geocaching,Event
END:VEVENT
END:VCALENDAR
