BEGIN:VCALENDAR
VERSION:2.0
PRODID:-//geocaching.sk//GCEVENTS//SK
CALSCALE:GREGORIAN
METHOD:PUBLISH
BEGIN:VEVENT
UID:GCBKN84@geocaching.sk
DTSTAMP:20260425T134645Z
DTSTART:20260519T120000Z
DTEND:20260519T123000Z
SUMMARY:Školská lekcia: Reverzné wherigo [GCBKN84]
DESCRIPTION:Školská lekcia: Reverzné wherigo\\nOrganizátor: zskoseca\\nTyp: Event Cache\\nKraj: Trenčiansky kraj\\nSúradnice: N49.0110590° E18.2640040°\\n\\nhttps://coord.info/GCBKN84
LOCATION:Trenčiansky kraj
GEO:49.0110590;18.2640040
URL:https://coord.info/GCBKN84
STATUS:CONFIRMED
CATEGORIES:Geocaching,Event
END:VEVENT
END:VCALENDAR
