BEGIN:VCALENDAR
VERSION:2.0
PRODID:-//geocaching.sk//GCEVENTS//SK
CALSCALE:GREGORIAN
METHOD:PUBLISH
BEGIN:VEVENT
UID:GCBKN7Z@geocaching.sk
DTSTAMP:20260425T134613Z
DTSTART:20260430T150000Z
DTEND:20260430T153000Z
SUMMARY:🏁 FINAL 🏁  [2025 Trackable Race ] [GCBKN7Z]
DESCRIPTION:🏁 FINAL 🏁  [2025 Trackable Race ]\\nOrganizátor: VeeN&Julcek\\nTyp: Event Cache\\nKraj: Trenčiansky kraj\\nSúradnice: N49.0357500° E18.2912500°\\n\\nhttps://coord.info/GCBKN7Z
LOCATION:Trenčiansky kraj
GEO:49.0357500;18.2912500
URL:https://coord.info/GCBKN7Z
STATUS:CONFIRMED
CATEGORIES:Geocaching,Event
END:VEVENT
END:VCALENDAR
