BEGIN:VCALENDAR
VERSION:2.0
PRODID:-//geocaching.sk//GCEVENTS//SK
CALSCALE:GREGORIAN
METHOD:PUBLISH
BEGIN:VEVENT
UID:GCBKN7Y@geocaching.sk
DTSTAMP:20260425T134707Z
DTSTART:20260506T140000Z
DTEND:20260506T143000Z
SUMMARY:N ako North [GCBKN7Y]
DESCRIPTION:N ako North\\nOrganizátor: zskoseca\\nTyp: Event Cache\\nKraj: Trenčiansky kraj\\nSúradnice: N49.0200160° E18.2719840°\\n\\nhttps://coord.info/GCBKN7Y
LOCATION:Trenčiansky kraj
GEO:49.0200160;18.2719840
URL:https://coord.info/GCBKN7Y
STATUS:CONFIRMED
CATEGORIES:Geocaching,Event
END:VEVENT
END:VCALENDAR
