BEGIN:VCALENDAR
VERSION:2.0
PRODID:-//geocaching.sk//GCEVENTS//SK
CALSCALE:GREGORIAN
METHOD:PUBLISH
BEGIN:VEVENT
UID:GCBKM7F@geocaching.sk
DTSTAMP:20260425T134429Z
DTSTART:20260426T143000Z
DTEND:20260426T153000Z
SUMMARY:Maker Magic - Mysterková opekačka [GCBKM7F]
DESCRIPTION:Maker Magic - Mysterková opekačka\\nOrganizátor: JuRoot\\nTyp: Event Cache\\nKraj: Žilinský kraj\\nSúradnice: N49.2460780° E18.6581790°\\n\\nhttps://coord.info/GCBKM7F
LOCATION:Žilinský kraj
GEO:49.2460780;18.6581790
URL:https://coord.info/GCBKM7F
STATUS:CONFIRMED
CATEGORIES:Geocaching,Event
END:VEVENT
END:VCALENDAR
