BEGIN:VCALENDAR
VERSION:2.0
PRODID:-//geocaching.sk//GCEVENTS//SK
CALSCALE:GREGORIAN
METHOD:PUBLISH
BEGIN:VEVENT
UID:GCBKB3Z@geocaching.sk
DTSTAMP:20260425T134332Z
DTSTART:20260606T170000Z
DTEND:20260606T180000Z
SUMMARY:🙃 MDD 🙃 [GCBKB3Z]
DESCRIPTION:🙃 MDD 🙃\\nOrganizátor: geJulie\\nTyp: Event Cache\\nKraj: Nitriansky kraj\\nSúradnice: N47.7562290° E17.9465890°\\n\\nhttps://coord.info/GCBKB3Z
LOCATION:Nitriansky kraj
GEO:47.7562290;17.9465890
URL:https://coord.info/GCBKB3Z
STATUS:CONFIRMED
CATEGORIES:Geocaching,Event
END:VEVENT
END:VCALENDAR
