BEGIN:VCALENDAR
VERSION:2.0
PRODID:-//geocaching.sk//GCEVENTS//SK
CALSCALE:GREGORIAN
METHOD:PUBLISH
BEGIN:VEVENT
UID:GCBJTE8@geocaching.sk
DTSTAMP:20260425T134736Z
DTSTART:20260513T160000Z
DTEND:20260513T163000Z
SUMMARY:Dvanásťplusjeden eventov - Máj [GCBJTE8]
DESCRIPTION:Dvanásťplusjeden eventov - Máj\\nOrganizátor: zemiak\\nTyp: Event Cache\\nKraj: Bratislavský kraj\\nSúradnice: N48.1837820° E17.0993690°\\n\\nhttps://coord.info/GCBJTE8
LOCATION:Bratislavský kraj
GEO:48.1837820;17.0993690
URL:https://coord.info/GCBJTE8
STATUS:CONFIRMED
CATEGORIES:Geocaching,Event
END:VEVENT
END:VCALENDAR
